BEGIN:VCALENDAR
VERSION:2.0
PRODID:-// - ECPv6.15.20//NONSGML v1.0//EN
CALSCALE:GREGORIAN
METHOD:PUBLISH
X-ORIGINAL-URL:https://www.newforest.se
X-WR-CALDESC:Händelser för 
REFRESH-INTERVAL;VALUE=DURATION:PT1H
X-Robots-Tag:noindex
X-PUBLISHED-TTL:PT1H
BEGIN:VTIMEZONE
TZID:UTC
BEGIN:STANDARD
TZOFFSETFROM:+0000
TZOFFSETTO:+0000
TZNAME:UTC
DTSTART:20250101T000000
END:STANDARD
END:VTIMEZONE
BEGIN:VEVENT
DTSTART;TZID=UTC:20260802T080000
DTEND;TZID=UTC:20260802T170000
DTSTAMP:20260420T100533
CREATED:20260103T081453Z
LAST-MODIFIED:20260103T081453Z
UID:3501-1785657600-1785690000@www.newforest.se
SUMMARY:Riksutställning
DESCRIPTION:Axevalla
URL:https://www.newforest.se/event/riksutstallning-2/
CATEGORIES:Riksutställning
END:VEVENT
END:VCALENDAR