BEGIN:VCALENDAR
VERSION:2.0
PRODID:-// - ECPv6.15.20//NONSGML v1.0//EN
CALSCALE:GREGORIAN
METHOD:PUBLISH
X-ORIGINAL-URL:https://www.newforest.se
X-WR-CALDESC:Händelser för 
REFRESH-INTERVAL;VALUE=DURATION:PT1H
X-Robots-Tag:noindex
X-PUBLISHED-TTL:PT1H
BEGIN:VTIMEZONE
TZID:UTC
BEGIN:STANDARD
TZOFFSETFROM:+0000
TZOFFSETTO:+0000
TZNAME:UTC
DTSTART:20240101T000000
END:STANDARD
END:VTIMEZONE
BEGIN:VEVENT
DTSTART;VALUE=DATE:20250808
DTEND;VALUE=DATE:20250809
DTSTAMP:20260420T130029
CREATED:20250115T162850Z
LAST-MODIFIED:20250115T163210Z
UID:2923-1754611200-1754697599@www.newforest.se
SUMMARY:Riksutställning
DESCRIPTION:
URL:https://www.newforest.se/event/riksutstallning/
LOCATION:Björbäck\, Våxtorp\, Våxtorp\, Sverige
CATEGORIES:Riksutställning
END:VEVENT
END:VCALENDAR