BEGIN:VCALENDAR
VERSION:2.0
PRODID:-// - ECPv6.15.20//NONSGML v1.0//EN
CALSCALE:GREGORIAN
METHOD:PUBLISH
X-ORIGINAL-URL:http://www.newforest.se
X-WR-CALDESC:Händelser för 
REFRESH-INTERVAL;VALUE=DURATION:PT1H
X-Robots-Tag:noindex
X-PUBLISHED-TTL:PT1H
BEGIN:VTIMEZONE
TZID:UTC
BEGIN:STANDARD
TZOFFSETFROM:+0000
TZOFFSETTO:+0000
TZNAME:UTC
DTSTART:20230101T000000
END:STANDARD
END:VTIMEZONE
BEGIN:VEVENT
DTSTART;VALUE=DATE:20240719
DTEND;VALUE=DATE:20240720
DTSTAMP:20260425T163801
CREATED:20240115T071546Z
LAST-MODIFIED:20240115T071546Z
UID:2488-1721347200-1721433599@www.newforest.se
SUMMARY:Riksutställning med Engelska ridklasser
DESCRIPTION:Riksutställning med Engelska ridklasser \nInvigning av New Forest Mästerskapen
URL:http://www.newforest.se/event/riksutstallning-med-engelska-ridklasser/
LOCATION:Björbäck\, Våxtorp\, Våxtorp\, Sverige
CATEGORIES:New Forest Mästerskapen,Riksutställning
END:VEVENT
BEGIN:VEVENT
DTSTART;VALUE=DATE:20240720
DTEND;VALUE=DATE:20240721
DTSTAMP:20260425T163801
CREATED:20240115T071648Z
LAST-MODIFIED:20240115T071648Z
UID:2491-1721433600-1721519999@www.newforest.se
SUMMARY:New Forest SM
DESCRIPTION:New Forest SM \nDressyr\, utställning\, pay&Jump
URL:http://www.newforest.se/event/new-forest-sm/
LOCATION:Björbäck\, Våxtorp\, Våxtorp\, Sverige
CATEGORIES:New Forest Mästerskapen
END:VEVENT
BEGIN:VEVENT
DTSTART;VALUE=DATE:20240721
DTEND;VALUE=DATE:20240722
DTSTAMP:20260425T163801
CREATED:20240115T071742Z
LAST-MODIFIED:20240115T071742Z
UID:2493-1721520000-1721606399@www.newforest.se
SUMMARY:New Forest SM
DESCRIPTION:Hoppning \nDressyr
URL:http://www.newforest.se/event/new-forest-sm-2/
LOCATION:Björbäck\, Våxtorp\, Våxtorp\, Sverige
CATEGORIES:New Forest Mästerskapen
END:VEVENT
END:VCALENDAR