BEGIN:VCALENDAR
VERSION:2.0
PRODID:-// - ECPv6.15.20//NONSGML v1.0//EN
CALSCALE:GREGORIAN
METHOD:PUBLISH
X-ORIGINAL-URL:http://www.newforest.se
X-WR-CALDESC:Händelser för 
REFRESH-INTERVAL;VALUE=DURATION:PT1H
X-Robots-Tag:noindex
X-PUBLISHED-TTL:PT1H
BEGIN:VTIMEZONE
TZID:UTC
BEGIN:STANDARD
TZOFFSETFROM:+0000
TZOFFSETTO:+0000
TZNAME:UTC
DTSTART:20220101T000000
END:STANDARD
END:VTIMEZONE
BEGIN:VEVENT
DTSTART;VALUE=DATE:20230805
DTEND;VALUE=DATE:20230807
DTSTAMP:20260423T193311
CREATED:20221230T191558Z
LAST-MODIFIED:20230530T072631Z
UID:2141-1691193600-1691366399@www.newforest.se
SUMMARY:New Forest Mästerskapen
DESCRIPTION:Plats: Björbäck\, Våxtorp \nPropositioner för Ridklasser
URL:http://www.newforest.se/event/new-forest-masterskapen/
CATEGORIES:New Forest Mästerskapen
END:VEVENT
BEGIN:VEVENT
DTSTART;TZID=UTC:20230924T080000
DTEND;TZID=UTC:20230924T170000
DTSTAMP:20260423T193311
CREATED:20230815T191423Z
LAST-MODIFIED:20230815T191423Z
UID:2381-1695542400-1695574800@www.newforest.se
SUMMARY:New Forest Mästerskapen i Fälttävlan
DESCRIPTION:PROPOSITIONER \nFör New Forest SM i Fälttävlan 24 september 2023 \nArrangör: Ridklubben Udden  \n1. Anmäl till ordinarie klass\, P 80\, via TDB. \n2. NF-SM är öppet för New Forestponnyer registrerade med raskod 34 eller 39. \n3. Importerad ponny måste vara tilläggsregistrerad i Svenska New Forestföreningen \n4. Prisutdelning direkt efter klassens prisutdelning. (Om möjlighet finns\, prisutdelning till häst). \n5. Rosett och täcke till vinnaren. Rosett och hederspris till 2:an och 3:an. \n6. Ryttare eller ägare ska vara medlem i Svenska New Forestföreningen. Medlemsavgiften 300:- sätts in på SNF’s BG 5723-6010 eller Swish 123 221 84 44 \nGlöm inte att ange namn och adress (och gärna e-post!) \n7. Maila anmälan till NF-SM\, Jenny Carlsson\, gullabos_nf@yahoo.se Ange ponny och ryttare samt ägare. \n8. Sista dag för anmälan och betalning av medlemsavgift 15 september. \n9. Frågor besvaras på mail gullabos_nf@yahoo.se  eller 0702- 25 54 64 \nSvenska New Forestföreningen hälsar er hjärtligt välkomna till Ridklubben Udden!
URL:http://www.newforest.se/event/new-forest-masterskapen-i-falttavlan/
LOCATION:Ridklubben Udden
CATEGORIES:New Forest Mästerskapen
END:VEVENT
BEGIN:VEVENT
DTSTART;TZID=UTC:20231001T080000
DTEND;TZID=UTC:20231001T170000
DTSTAMP:20260423T193311
CREATED:20230815T192413Z
LAST-MODIFIED:20230815T192413Z
UID:2386-1696147200-1696179600@www.newforest.se
SUMMARY:Höstmöte
DESCRIPTION:Höstmöte hos Rans Stuteri\, Glemmingebro \nMer info kommer
URL:http://www.newforest.se/event/hostmote-2/
CATEGORIES:Höstmöte
END:VEVENT
BEGIN:VEVENT
DTSTART;TZID=UTC:20240309T080000
DTEND;TZID=UTC:20240310T170000
DTSTAMP:20260423T193311
CREATED:20231212T202404Z
LAST-MODIFIED:20231212T202404Z
UID:2481-1709971200-1710090000@www.newforest.se
SUMMARY:Avelsvärdering för hingstar 2024
DESCRIPTION:Proposition
URL:http://www.newforest.se/event/avelsvardering-for-hingstar-2024/
CATEGORIES:Avelsvärdering hingstar
END:VEVENT
BEGIN:VEVENT
DTSTART;VALUE=DATE:20240719
DTEND;VALUE=DATE:20240720
DTSTAMP:20260423T193311
CREATED:20240115T071546Z
LAST-MODIFIED:20240115T071546Z
UID:2488-1721347200-1721433599@www.newforest.se
SUMMARY:Riksutställning med Engelska ridklasser
DESCRIPTION:Riksutställning med Engelska ridklasser \nInvigning av New Forest Mästerskapen
URL:http://www.newforest.se/event/riksutstallning-med-engelska-ridklasser/
LOCATION:Björbäck\, Våxtorp\, Våxtorp\, Sverige
CATEGORIES:New Forest Mästerskapen,Riksutställning
END:VEVENT
BEGIN:VEVENT
DTSTART;VALUE=DATE:20240720
DTEND;VALUE=DATE:20240721
DTSTAMP:20260423T193311
CREATED:20240115T071648Z
LAST-MODIFIED:20240115T071648Z
UID:2491-1721433600-1721519999@www.newforest.se
SUMMARY:New Forest SM
DESCRIPTION:New Forest SM \nDressyr\, utställning\, pay&Jump
URL:http://www.newforest.se/event/new-forest-sm/
LOCATION:Björbäck\, Våxtorp\, Våxtorp\, Sverige
CATEGORIES:New Forest Mästerskapen
END:VEVENT
BEGIN:VEVENT
DTSTART;VALUE=DATE:20240721
DTEND;VALUE=DATE:20240722
DTSTAMP:20260423T193311
CREATED:20240115T071742Z
LAST-MODIFIED:20240115T071742Z
UID:2493-1721520000-1721606399@www.newforest.se
SUMMARY:New Forest SM
DESCRIPTION:Hoppning \nDressyr
URL:http://www.newforest.se/event/new-forest-sm-2/
LOCATION:Björbäck\, Våxtorp\, Våxtorp\, Sverige
CATEGORIES:New Forest Mästerskapen
END:VEVENT
BEGIN:VEVENT
DTSTART;VALUE=DATE:20240929
DTEND;VALUE=DATE:20240930
DTSTAMP:20260423T193311
CREATED:20240827T045040Z
LAST-MODIFIED:20240827T045040Z
UID:2806-1727568000-1727568000@www.newforest.se
SUMMARY:Höstmöte
DESCRIPTION:Inbjudan
URL:http://www.newforest.se/event/hostmote-3/
END:VEVENT
BEGIN:VEVENT
DTSTART;TZID=UTC:20250315T080000
DTEND;TZID=UTC:20250315T170000
DTSTAMP:20260423T193311
CREATED:20250115T163034Z
LAST-MODIFIED:20250115T163034Z
UID:2925-1742025600-1742058000@www.newforest.se
SUMMARY:Årsmöte
DESCRIPTION:
URL:http://www.newforest.se/event/arsmote-3/
LOCATION:Vetlanda\, Vetlanda\, Sverige
CATEGORIES:Årsmöte
END:VEVENT
BEGIN:VEVENT
DTSTART;VALUE=DATE:20250316
DTEND;VALUE=DATE:20250317
DTSTAMP:20260423T193311
CREATED:20241217T195817Z
LAST-MODIFIED:20241217T200244Z
UID:2908-1742083200-1742169599@www.newforest.se
SUMMARY:Avelsvärdering & Bruksprov
DESCRIPTION:Avelsvärdering & Bruksprov
URL:http://www.newforest.se/event/avelsvardering-bruksprov/
LOCATION:Vetlanda\, Vetlanda\, Sverige
CATEGORIES:Avelsvärdering hingstar
END:VEVENT
BEGIN:VEVENT
DTSTART;VALUE=DATE:20250808
DTEND;VALUE=DATE:20250809
DTSTAMP:20260423T193311
CREATED:20250115T162850Z
LAST-MODIFIED:20250115T163210Z
UID:2923-1754611200-1754697599@www.newforest.se
SUMMARY:Riksutställning
DESCRIPTION:
URL:http://www.newforest.se/event/riksutstallning/
LOCATION:Björbäck\, Våxtorp\, Våxtorp\, Sverige
CATEGORIES:Riksutställning
END:VEVENT
BEGIN:VEVENT
DTSTART;TZID=UTC:20250808T080000
DTEND;TZID=UTC:20250810T170000
DTSTAMP:20260423T193311
CREATED:20250115T162814Z
LAST-MODIFIED:20250115T162814Z
UID:2921-1754640000-1754845200@www.newforest.se
SUMMARY:New Forest Mästerskapen
DESCRIPTION:
URL:http://www.newforest.se/event/new-forest-masterskapen-2/
LOCATION:Björbäck\, Våxtorp\, Våxtorp\, Sverige
CATEGORIES:New Forest Mästerskapen
END:VEVENT
BEGIN:VEVENT
DTSTART;TZID=UTC:20251004T080000
DTEND;TZID=UTC:20251004T170000
DTSTAMP:20260423T193311
CREATED:20250704T045718Z
LAST-MODIFIED:20250917T194723Z
UID:3132-1759564800-1759597200@www.newforest.se
SUMMARY:Höstmöte
DESCRIPTION:Kallelse till Höstmöte 2025
URL:http://www.newforest.se/event/hostmote-4/
END:VEVENT
BEGIN:VEVENT
DTSTART;TZID=UTC:20260314T080000
DTEND;TZID=UTC:20260314T170000
DTSTAMP:20260423T193311
CREATED:20260103T081402Z
LAST-MODIFIED:20260103T081402Z
UID:3499-1773475200-1773507600@www.newforest.se
SUMMARY:Årsmöte
DESCRIPTION:Vetlanda
URL:http://www.newforest.se/event/arsmote-4/
CATEGORIES:Årsmöte
END:VEVENT
BEGIN:VEVENT
DTSTART;TZID=UTC:20260315T080000
DTEND;TZID=UTC:20260315T170000
DTSTAMP:20260423T193311
CREATED:20251219T050030Z
LAST-MODIFIED:20251219T050030Z
UID:3487-1773561600-1773594000@www.newforest.se
SUMMARY:Avelsvärdering & Bruksprov 2026
DESCRIPTION:Läs mer  här
URL:http://www.newforest.se/event/avelsvardering-bruksprov-2026/
CATEGORIES:Avelsvärdering hingstar
END:VEVENT
BEGIN:VEVENT
DTSTART;TZID=UTC:20260802T080000
DTEND;TZID=UTC:20260802T170000
DTSTAMP:20260423T193311
CREATED:20260103T081453Z
LAST-MODIFIED:20260423T063304Z
UID:3501-1785657600-1785690000@www.newforest.se
SUMMARY:Riksutställning i Axevalla
DESCRIPTION:Axevalla
URL:http://www.newforest.se/event/riksutstallning-2/
CATEGORIES:Riksutställning
END:VEVENT
BEGIN:VEVENT
DTSTART;TZID=UTC:20260808T080000
DTEND;TZID=UTC:20260809T170000
DTSTAMP:20260423T193311
CREATED:20260103T081536Z
LAST-MODIFIED:20260423T063243Z
UID:3503-1786176000-1786294800@www.newforest.se
SUMMARY:New Forest Mästerskapen i Björbäck
DESCRIPTION:
URL:http://www.newforest.se/event/new-forest-masterskapen-3/
CATEGORIES:New Forest Mästerskapen
END:VEVENT
BEGIN:VEVENT
DTSTART;TZID=UTC:20260911T080000
DTEND;TZID=UTC:20260913T170000
DTSTAMP:20260423T193311
CREATED:20260423T063401Z
LAST-MODIFIED:20260423T063401Z
UID:3596-1789113600-1789318800@www.newforest.se
SUMMARY:Internationellt New Forest möte
DESCRIPTION:
URL:http://www.newforest.se/event/internationellt-new-forest-mote/
END:VEVENT
END:VCALENDAR