BEGIN:VCALENDAR
VERSION:2.0
PRODID:-// - ECPv6.15.20//NONSGML v1.0//EN
CALSCALE:GREGORIAN
METHOD:PUBLISH
X-ORIGINAL-URL:http://www.newforest.se
X-WR-CALDESC:Händelser för 
REFRESH-INTERVAL;VALUE=DURATION:PT1H
X-Robots-Tag:noindex
X-PUBLISHED-TTL:PT1H
BEGIN:VTIMEZONE
TZID:UTC
BEGIN:STANDARD
TZOFFSETFROM:+0000
TZOFFSETTO:+0000
TZNAME:UTC
DTSTART:20220101T000000
END:STANDARD
END:VTIMEZONE
BEGIN:VEVENT
DTSTART;TZID=UTC:20231001T080000
DTEND;TZID=UTC:20231001T170000
DTSTAMP:20260421T133853
CREATED:20230815T192413Z
LAST-MODIFIED:20230815T192413Z
UID:2386-1696147200-1696179600@www.newforest.se
SUMMARY:Höstmöte
DESCRIPTION:Höstmöte hos Rans Stuteri\, Glemmingebro \nMer info kommer
URL:http://www.newforest.se/event/hostmote-2/
CATEGORIES:Höstmöte
END:VEVENT
END:VCALENDAR