BEGIN:VCALENDAR
VERSION:2.0
PRODID:-// - ECPv6.15.20//NONSGML v1.0//EN
CALSCALE:GREGORIAN
METHOD:PUBLISH
X-ORIGINAL-URL:http://www.newforest.se
X-WR-CALDESC:Händelser för 
REFRESH-INTERVAL;VALUE=DURATION:PT1H
X-Robots-Tag:noindex
X-PUBLISHED-TTL:PT1H
BEGIN:VTIMEZONE
TZID:UTC
BEGIN:STANDARD
TZOFFSETFROM:+0000
TZOFFSETTO:+0000
TZNAME:UTC
DTSTART:20220101T000000
END:STANDARD
END:VTIMEZONE
BEGIN:VEVENT
DTSTART;VALUE=DATE:20230805
DTEND;VALUE=DATE:20230807
DTSTAMP:20260423T130446
CREATED:20221230T191558Z
LAST-MODIFIED:20230530T072631Z
UID:2141-1691193600-1691366399@www.newforest.se
SUMMARY:New Forest Mästerskapen
DESCRIPTION:Plats: Björbäck\, Våxtorp \nPropositioner för Ridklasser
URL:http://www.newforest.se/event/new-forest-masterskapen/
CATEGORIES:New Forest Mästerskapen
END:VEVENT
END:VCALENDAR